BEGIN:VCALENDAR
VERSION:2.0
PRODID:-//Mairie de La Javie - ECPv6.11.2.1//NONSGML v1.0//EN
CALSCALE:GREGORIAN
METHOD:PUBLISH
X-ORIGINAL-URL:https://lajavie.fr
X-WR-CALDESC:Évènements pour Mairie de La Javie
REFRESH-INTERVAL;VALUE=DURATION:PT1H
X-Robots-Tag:noindex
X-PUBLISHED-TTL:PT1H
BEGIN:VTIMEZONE
TZID:Europe/Paris
BEGIN:DAYLIGHT
TZOFFSETFROM:+0100
TZOFFSETTO:+0200
TZNAME:CEST
DTSTART:20240331T010000
END:DAYLIGHT
BEGIN:STANDARD
TZOFFSETFROM:+0200
TZOFFSETTO:+0100
TZNAME:CET
DTSTART:20241027T010000
END:STANDARD
BEGIN:DAYLIGHT
TZOFFSETFROM:+0100
TZOFFSETTO:+0200
TZNAME:CEST
DTSTART:20250330T010000
END:DAYLIGHT
BEGIN:STANDARD
TZOFFSETFROM:+0200
TZOFFSETTO:+0100
TZNAME:CET
DTSTART:20251026T010000
END:STANDARD
BEGIN:DAYLIGHT
TZOFFSETFROM:+0100
TZOFFSETTO:+0200
TZNAME:CEST
DTSTART:20260329T010000
END:DAYLIGHT
BEGIN:STANDARD
TZOFFSETFROM:+0200
TZOFFSETTO:+0100
TZNAME:CET
DTSTART:20261025T010000
END:STANDARD
END:VTIMEZONE
BEGIN:VEVENT
DTSTART;VALUE=DATE:20260322
DTEND;VALUE=DATE:20260323
DTSTAMP:20260426T045723
CREATED:20251212T160405Z
LAST-MODIFIED:20251212T160424Z
UID:2869-1774137600-1774223999@lajavie.fr
SUMMARY:Second tour des élections municipales
DESCRIPTION:
URL:https://lajavie.fr/evenement/second-tour-des-elections-municipales/
LOCATION:Mairie de La Javie\, Rue principale\, La Javie\, 04420\, France
CATEGORIES:Alerte info,Élections
ORGANIZER;CN="Mairie de La Javie":MAILTO:mairie@lajavie.fr
END:VEVENT
BEGIN:VEVENT
DTSTART;VALUE=DATE:20260315
DTEND;VALUE=DATE:20260316
DTSTAMP:20260426T045723
CREATED:20251212T160318Z
LAST-MODIFIED:20251212T160419Z
UID:2867-1773532800-1773619199@lajavie.fr
SUMMARY:Premier tour des élections municipales
DESCRIPTION:
URL:https://lajavie.fr/evenement/premier-tour-des-elections-municipales/
LOCATION:Mairie de La Javie\, Rue principale\, La Javie\, 04420\, France
CATEGORIES:Alerte info,Élections
ORGANIZER;CN="Mairie de La Javie":MAILTO:mairie@lajavie.fr
END:VEVENT
BEGIN:VEVENT
DTSTART;TZID=Europe/Paris:20260110T110000
DTEND;TZID=Europe/Paris:20260110T120000
DTSTAMP:20260426T045723
CREATED:20251212T153314Z
LAST-MODIFIED:20251212T153314Z
UID:2853-1768042800-1768046400@lajavie.fr
SUMMARY:Cérémonie des vœux
DESCRIPTION:
URL:https://lajavie.fr/evenement/ceremonie-des-voeux/
LOCATION:Salle des fêtes\, Place de la Mairie\, La Javie\, 04420\, France
CATEGORIES:Événement
ORGANIZER;CN="Mairie de La Javie":MAILTO:mairie@lajavie.fr
END:VEVENT
BEGIN:VEVENT
DTSTART;TZID=Europe/Paris:20251220T110000
DTEND;TZID=Europe/Paris:20251220T120000
DTSTAMP:20260426T045723
CREATED:20251212T153618Z
LAST-MODIFIED:20251212T153618Z
UID:2855-1766228400-1766232000@lajavie.fr
SUMMARY:Sainte Barbe
DESCRIPTION:Les pompiers de La Javie vous convient à leur cérémonie de la Sainte-Barbe. Retrouvez nous sur la place publique de La Javie à 11h00 afin d’assister aux remises de grades et à la passation de commandement entre le lieutenant Jérémy Roche et l’adjudant Kevin Savornin.
URL:https://lajavie.fr/evenement/sainte-barbe/
LOCATION:Place du village
CATEGORIES:Événement
END:VEVENT
BEGIN:VEVENT
DTSTART;TZID=Europe/Paris:20251214T100000
DTEND;TZID=Europe/Paris:20251214T100000
DTSTAMP:20260426T045723
CREATED:20251212T153819Z
LAST-MODIFIED:20251212T154013Z
UID:2858-1765706400-1765706400@lajavie.fr
SUMMARY:Marché de Noël
DESCRIPTION:
URL:https://lajavie.fr/evenement/marche-de-noel/
LOCATION:Place du village
CATEGORIES:Événement,Foires & Marchés
END:VEVENT
BEGIN:VEVENT
DTSTART;TZID=Europe/Paris:20251019T100000
DTEND;TZID=Europe/Paris:20251019T120000
DTSTAMP:20260426T045723
CREATED:20250919T133105Z
LAST-MODIFIED:20251002T135239Z
UID:2830-1760868000-1760875200@lajavie.fr
SUMMARY:Nouveau sauvetage de poules
DESCRIPTION:  \nProchain sauvetage de poules : \nDimanche 19 octobre de 10h à 12h \nInscription obligatoire via le lien : Sauvetage de poules du 19 octobre 2025 \n  \nPoules rousses de 18 mois issues d’un élevage bio \n 
URL:https://lajavie.fr/evenement/nouveau-sauvetage-de-poules/
LOCATION:La Javie\, La Javie\, 04420\, France
CATEGORIES:Alerte info,Événement
ATTACH;FMTTYPE=image/jpeg:https://lajavie.fr/wp-content/uploads/2025/09/Poules.jpg
END:VEVENT
BEGIN:VEVENT
DTSTART;TZID=Europe/Paris:20251002T143000
DTEND;TZID=Europe/Paris:20251002T163000
DTSTAMP:20260426T045723
CREATED:20250905T093512Z
LAST-MODIFIED:20250905T093512Z
UID:2808-1759415400-1759422600@lajavie.fr
SUMMARY:Ateliers Cœur Lavande
DESCRIPTION:L’Association cœur lavande vous propose un atelier gratuit le Jeudi 2 Octobre de 14h30 à 16h30 \ndans la salle du conseil à la mairie de la Javie. \nCliquez sur le lien ci-dessous pour découvrir l’affiche: \nAffiche La Javie 2 octobre 25
URL:https://lajavie.fr/evenement/ateliers-coeur-lavande/
LOCATION:Mairie de La Javie\, Rue principale\, La Javie\, 04420\, France
CATEGORIES:Événement,Loisirs
ORGANIZER;CN="C%C5%93ur Lavande":MAILTO:association@coeurlavande.fr
END:VEVENT
BEGIN:VEVENT
DTSTART;TZID=Europe/Paris:20250924T080000
DTEND;TZID=Europe/Paris:20250924T120000
DTSTAMP:20260426T045723
CREATED:20250912T090930Z
LAST-MODIFIED:20250912T090930Z
UID:2813-1758700800-1758715200@lajavie.fr
SUMMARY:Don du Sang
DESCRIPTION:Don du sang à Digne-les-Bains \nSalle des Gavots de 8h à 12h le Mercredi 24 septembre 2025 \nPour plus d’informations cliquez sur le lien ci-dessous: \nscan-20250912063811
URL:https://lajavie.fr/evenement/don-du-sang-2/
LOCATION:Salle des Gavots\, Mairie 1 bd Martin Bret\, Digne-les-Bains\, 04000\, France
CATEGORIES:Don du sang,Événement
END:VEVENT
BEGIN:VEVENT
DTSTART;VALUE=DATE:20250906
DTEND;VALUE=DATE:20250907
DTSTAMP:20260426T045723
CREATED:20250814T094952Z
LAST-MODIFIED:20250814T094952Z
UID:2801-1757116800-1757203199@lajavie.fr
SUMMARY:Foire aux Tardons
DESCRIPTION:Foire aux tardons \nLe Samedi 6 septembre 2025 \nVente et exposition d’animaux et de matériel\, Animations pour tous\, Marché de Producteurs et Artisans. \nRepas du comité sur réservation: \n20€ Adulte et 10€ Enfant \nPlus d’informations en cliquant sur le lien ci-dessous : \nBV_Foire aux tardons 2025 (A4)_imprim
URL:https://lajavie.fr/evenement/foire-aux-tardons/
LOCATION:La Javie\, La Javie\, 04420\, France
CATEGORIES:Événement,Fête
END:VEVENT
BEGIN:VEVENT
DTSTART;TZID=Europe/Paris:20250730T080000
DTEND;TZID=Europe/Paris:20250730T123000
DTSTAMP:20260426T045723
CREATED:20250710T142546Z
LAST-MODIFIED:20250710T142546Z
UID:2794-1753862400-1753878600@lajavie.fr
SUMMARY:Don du Sang
DESCRIPTION:Don du Sang Salle des Gavots 04000 Digne les Bains \n8h-12h30
URL:https://lajavie.fr/evenement/don-du-sang/
LOCATION:Salle des Gavots\, Mairie 1 bd Martin Bret\, Digne-les-Bains\, 04000\, France
END:VEVENT
BEGIN:VEVENT
DTSTART;TZID=Europe/Paris:20250713T193000
DTEND;TZID=Europe/Paris:20250714T020000
DTSTAMP:20260426T045723
CREATED:20250703T140850Z
LAST-MODIFIED:20250703T140850Z
UID:2789-1752435000-1752458400@lajavie.fr
SUMMARY:Bal des Pompiers
DESCRIPTION:Bal des Pompiers le 13 juillet Place du village à partir de 19h30 début du bal 21h30. Buvette et restauration sur place. \nPlus d’infos cliquez sur le lien suivant: \nbal des pompiers 2025  
URL:https://lajavie.fr/evenement/bal-des-pompiers/
LOCATION:La Javie\, La Javie\, 04420\, France
CATEGORIES:Événement,Fête
END:VEVENT
BEGIN:VEVENT
DTSTART;VALUE=DATE:20250620
DTEND;VALUE=DATE:20250621
DTSTAMP:20260426T045723
CREATED:20250416T134558Z
LAST-MODIFIED:20250416T134558Z
UID:2753-1750377600-1750463999@lajavie.fr
SUMMARY:FEU DE LA SAINT JEAN
DESCRIPTION:
URL:https://lajavie.fr/evenement/feu-de-la-saint-jean/
LOCATION:La Javie\, La Javie\, 04420\, France
CATEGORIES:Événement,Fête
END:VEVENT
BEGIN:VEVENT
DTSTART;TZID=Europe/Paris:20250604T183000
DTEND;TZID=Europe/Paris:20250604T193000
DTSTAMP:20260426T045723
CREATED:20250530T113603Z
LAST-MODIFIED:20250530T113603Z
UID:2775-1749061800-1749065400@lajavie.fr
SUMMARY:Conseil municipal
DESCRIPTION:Conseil Municipal \nLe mercredi 04 Juin 2025 à 18h30 \nSalle du conseil
URL:https://lajavie.fr/evenement/conseil-municipal-3/
LOCATION:Mairie de La Javie\, Rue principale\, La Javie\, 04420\, France
CATEGORIES:Conseil municipal
ORGANIZER;CN="Mairie de La Javie":MAILTO:mairie@lajavie.fr
END:VEVENT
BEGIN:VEVENT
DTSTART;TZID=Europe/Paris:20250518T150000
DTEND;TZID=Europe/Paris:20250518T190000
DTSTAMP:20260426T045723
CREATED:20250415T132854Z
LAST-MODIFIED:20250416T134350Z
UID:2743-1747580400-1747594800@lajavie.fr
SUMMARY:GUINGUETTE
DESCRIPTION:Réservation conseillée: 07.82.10.13.47
URL:https://lajavie.fr/evenement/guinguette/
LOCATION:La Javie\, La Javie\, 04420\, France
CATEGORIES:Événement,Fête
END:VEVENT
BEGIN:VEVENT
DTSTART;TZID=Europe/Paris:20250506T143000
DTEND;TZID=Europe/Paris:20250506T163000
DTSTAMP:20260426T045723
CREATED:20250331T145249Z
LAST-MODIFIED:20250331T145249Z
UID:2722-1746541800-1746549000@lajavie.fr
SUMMARY:La Maison Cœur Lavande
DESCRIPTION:coeur lavande affiche 06-05-2025
URL:https://lajavie.fr/evenement/la-maison-coeur-lavande/
LOCATION:Mairie de La Javie\, Rue principale\, La Javie\, 04420\, France
CATEGORIES:Événement
ORGANIZER;CN="C%C5%93ur Lavande":MAILTO:association@coeurlavande.fr
END:VEVENT
BEGIN:VEVENT
DTSTART;TZID=Europe/Paris:20250403T173000
DTEND;TZID=Europe/Paris:20250403T190000
DTSTAMP:20260426T045723
CREATED:20250331T144605Z
LAST-MODIFIED:20250331T144605Z
UID:2716-1743701400-1743706800@lajavie.fr
SUMMARY:Réunion publique à mi-mandat\, parlons avenir !
DESCRIPTION:réunion publique 03-04-2025 DIGNE-LES-BAINS
URL:https://lajavie.fr/evenement/reunion-publique-a-mi-mandat-parlons-avenir/
CATEGORIES:Événement
END:VEVENT
BEGIN:VEVENT
DTSTART;TZID=Europe/Paris:20250327T140000
DTEND;TZID=Europe/Paris:20250327T163000
DTSTAMP:20260426T045723
CREATED:20250228T152545Z
LAST-MODIFIED:20250228T152545Z
UID:2695-1743084000-1743093000@lajavie.fr
SUMMARY:Maison cœur Lavande
DESCRIPTION:maison coeur Lavande 27-03-2025
URL:https://lajavie.fr/evenement/maison-coeur-lavande/
LOCATION:Mairie de La Javie\, Rue principale\, La Javie\, 04420\, France
ORGANIZER;CN="C%C5%93ur Lavande":MAILTO:association@coeurlavande.fr
END:VEVENT
BEGIN:VEVENT
DTSTART;TZID=Europe/Paris:20250319T093000
DTEND;TZID=Europe/Paris:20250319T113000
DTSTAMP:20260426T045723
CREATED:20250228T153942Z
LAST-MODIFIED:20250228T153942Z
UID:2700-1742376600-1742383800@lajavie.fr
SUMMARY:Invitation déchets: réfléchissons ensemble !
DESCRIPTION:déchets réfléchissons ensemble ! mercredi 19 mars à Digne-les-Bains
URL:https://lajavie.fr/evenement/invitation-dechets-reflechissons-ensemble/
LOCATION:Provence Alpes Agglomération\, 4 rue Klein\, DIGNE-LES-BAINS\, 04000
ORGANIZER;CN="Provence Alpes Agglom%C3%A9ration":MAILTO:zerodechet@provencealpesagglo.fr
END:VEVENT
BEGIN:VEVENT
DTSTART;TZID=Europe/Paris:20250211T143000
DTEND;TZID=Europe/Paris:20250211T163000
DTSTAMP:20260426T045723
CREATED:20241216T183913Z
LAST-MODIFIED:20241216T190339Z
UID:2660-1739284200-1739291400@lajavie.fr
SUMMARY:Atelier Cœur Lavande
DESCRIPTION:Plus d’infos en lisant cet article
URL:https://lajavie.fr/evenement/atelier-coeur-lavande-2/
LOCATION:Mairie de La Javie\, Rue principale\, La Javie\, 04420\, France
CATEGORIES:Alerte info,Atelier
ORGANIZER;CN="C%C5%93ur Lavande":MAILTO:association@coeurlavande.fr
END:VEVENT
BEGIN:VEVENT
DTSTART;TZID=Europe/Paris:20250210T183000
DTEND;TZID=Europe/Paris:20250210T213000
DTSTAMP:20260426T045723
CREATED:20250212T151031Z
LAST-MODIFIED:20250212T151507Z
UID:2679-1739212200-1739223000@lajavie.fr
SUMMARY:Conseil municipal
DESCRIPTION:
URL:https://lajavie.fr/evenement/conseil-municipal-2/
CATEGORIES:Conseil municipal
ORGANIZER;CN="Mairie de La Javie":MAILTO:mairie@lajavie.fr
END:VEVENT
BEGIN:VEVENT
DTSTART;TZID=Europe/Paris:20250116T143000
DTEND;TZID=Europe/Paris:20250116T163000
DTSTAMP:20260426T045723
CREATED:20241216T183649Z
LAST-MODIFIED:20241216T190242Z
UID:2657-1737037800-1737045000@lajavie.fr
SUMMARY:Atelier Cœur lavande
DESCRIPTION:Plus d’infos en lisant cet article
URL:https://lajavie.fr/evenement/atelier-coeur-lavande/
LOCATION:Mairie de La Javie\, Rue principale\, La Javie\, 04420\, France
CATEGORIES:Alerte info,Atelier
ORGANIZER;CN="C%C5%93ur Lavande":MAILTO:association@coeurlavande.fr
END:VEVENT
BEGIN:VEVENT
DTSTART;TZID=Europe/Paris:20250110T183000
DTEND;TZID=Europe/Paris:20250110T183000
DTSTAMP:20260426T045723
CREATED:20241216T183052Z
LAST-MODIFIED:20241216T183128Z
UID:2654-1736533800-1736533800@lajavie.fr
SUMMARY:Cérémonie des vœux 2025
DESCRIPTION:
URL:https://lajavie.fr/evenement/ceremonie-des-voeux-2025/
LOCATION:Salle des fêtes\, Place de la Mairie\, La Javie\, 04420\, France
CATEGORIES:Alerte info,Événement
ORGANIZER;CN="Mairie de La Javie":MAILTO:mairie@lajavie.fr
END:VEVENT
BEGIN:VEVENT
DTSTART;TZID=Europe/Paris:20241107T180000
DTEND;TZID=Europe/Paris:20241107T180000
DTSTAMP:20260426T045723
CREATED:20241030T144904Z
LAST-MODIFIED:20241030T145448Z
UID:2633-1731002400-1731002400@lajavie.fr
SUMMARY:Conseil municipal de novembre 2024
DESCRIPTION:Voir la convocation avec l’ordre du jour \n 
URL:https://lajavie.fr/evenement/conseil-municipal-de-novembre-2024/
LOCATION:Mairie de La Javie\, Rue principale\, La Javie\, 04420\, France
CATEGORIES:Conseil municipal
ORGANIZER;CN="Mairie de La Javie":MAILTO:mairie@lajavie.fr
END:VEVENT
BEGIN:VEVENT
DTSTART;TZID=Europe/Paris:20241103T090000
DTEND;TZID=Europe/Paris:20241103T170000
DTSTAMP:20260426T045723
CREATED:20240903T172145Z
LAST-MODIFIED:20240912T231804Z
UID:16-1730624400-1730653200@lajavie.fr
SUMMARY:18e Foire de la Poire Sarteau
DESCRIPTION:Découvrir les détails du programme
URL:https://lajavie.fr/evenement/18e-foire-de-la-poire-sarteau/
LOCATION:La Javie\, La Javie\, 04420\, France
CATEGORIES:Événement,Foires & Marchés
ORGANIZER;CN="La Javie autrefois":MAILTO:sarteaulajavie@gmail.com
END:VEVENT
BEGIN:VEVENT
DTSTART;TZID=Europe/Paris:20241031T183000
DTEND;TZID=Europe/Paris:20241031T183000
DTSTAMP:20260426T045723
CREATED:20240903T174102Z
LAST-MODIFIED:20240903T174423Z
UID:27-1730399400-1730399400@lajavie.fr
SUMMARY:Halloween - Chasse aux trésors
DESCRIPTION:
URL:https://lajavie.fr/evenement/halloween-chasse-aux-tresors/
LOCATION:La Javie\, La Javie\, 04420\, France
CATEGORIES:Événement,Jeunesse
END:VEVENT
BEGIN:VEVENT
DTSTART;TZID=Europe/Paris:20240927T180000
DTEND;TZID=Europe/Paris:20240927T180000
DTSTAMP:20260426T045723
CREATED:20240903T174745Z
LAST-MODIFIED:20240903T174909Z
UID:30-1727460000-1727460000@lajavie.fr
SUMMARY:Théâtre : Le Système Ribadier
DESCRIPTION:Pièce de Feydeau par la troupe Plume-en-Ciel
URL:https://lajavie.fr/evenement/theatre-le-systeme-ribadier/
LOCATION:La Javie\, La Javie\, 04420\, France
CATEGORIES:Culture
ORGANIZER;CN="La Javie autrefois":MAILTO:sarteaulajavie@gmail.com
END:VEVENT
BEGIN:VEVENT
DTSTART;TZID=Europe/Paris:20240924T190000
DTEND;TZID=Europe/Paris:20240924T190000
DTSTAMP:20260426T045723
CREATED:20240903T170207Z
LAST-MODIFIED:20240918T120543Z
UID:7-1727204400-1727204400@lajavie.fr
SUMMARY:Conseil municipal de septembre 2024
DESCRIPTION:Voir la convocation avec l’ordre du jour \n 
URL:https://lajavie.fr/evenement/conseil-municipal/
LOCATION:Mairie de La Javie\, Rue principale\, La Javie\, 04420\, France
CATEGORIES:Conseil municipal
ORGANIZER;CN="Mairie de La Javie":MAILTO:mairie@lajavie.fr
END:VEVENT
END:VCALENDAR